BEGIN:VCALENDAR
VERSION:2.0
PRODID:-//Inter Europol Competition - ECPv6.15.20//NONSGML v1.0//EN
CALSCALE:GREGORIAN
METHOD:PUBLISH
X-ORIGINAL-URL:https://intereuropolcompetition.eu/en
X-WR-CALDESC:Events for Inter Europol Competition
REFRESH-INTERVAL;VALUE=DURATION:PT1H
X-Robots-Tag:noindex
X-PUBLISHED-TTL:PT1H
BEGIN:VTIMEZONE
TZID:Europe/Warsaw
BEGIN:DAYLIGHT
TZOFFSETFROM:+0100
TZOFFSETTO:+0200
TZNAME:CEST
DTSTART:20230326T010000
END:DAYLIGHT
BEGIN:STANDARD
TZOFFSETFROM:+0200
TZOFFSETTO:+0100
TZNAME:CET
DTSTART:20231029T010000
END:STANDARD
BEGIN:DAYLIGHT
TZOFFSETFROM:+0100
TZOFFSETTO:+0200
TZNAME:CEST
DTSTART:20240331T010000
END:DAYLIGHT
BEGIN:STANDARD
TZOFFSETFROM:+0200
TZOFFSETTO:+0100
TZNAME:CET
DTSTART:20241027T010000
END:STANDARD
BEGIN:DAYLIGHT
TZOFFSETFROM:+0100
TZOFFSETTO:+0200
TZNAME:CEST
DTSTART:20250330T010000
END:DAYLIGHT
BEGIN:STANDARD
TZOFFSETFROM:+0200
TZOFFSETTO:+0100
TZNAME:CET
DTSTART:20251026T010000
END:STANDARD
BEGIN:DAYLIGHT
TZOFFSETFROM:+0100
TZOFFSETTO:+0200
TZNAME:CEST
DTSTART:20260329T010000
END:DAYLIGHT
BEGIN:STANDARD
TZOFFSETFROM:+0200
TZOFFSETTO:+0100
TZNAME:CET
DTSTART:20261025T010000
END:STANDARD
END:VTIMEZONE
BEGIN:VEVENT
DTSTART;VALUE=DATE:20240905
DTEND;VALUE=DATE:20240909
DTSTAMP:20260423T150856
CREATED:20231107T142448Z
LAST-MODIFIED:20231107T142448Z
UID:15519-1725494400-1725839999@intereuropolcompetition.eu
SUMMARY:Mugello
DESCRIPTION:
URL:https://intereuropolcompetition.eu/en/event/mugello/
CATEGORIES:Ultimate Cup
ATTACH;FMTTYPE=image/png:https://intereuropolcompetition.eu/wp-content/uploads/2023/11/limate.png
END:VEVENT
BEGIN:VEVENT
DTSTART;VALUE=DATE:20240920
DTEND;VALUE=DATE:20240923
DTSTAMP:20260423T150856
CREATED:20231107T135934Z
LAST-MODIFIED:20231107T135934Z
UID:15491-1726790400-1727049599@intereuropolcompetition.eu
SUMMARY:TireRack.com Battle On The Bricks
DESCRIPTION:
URL:https://intereuropolcompetition.eu/en/event/tirerack-com-battle-on-the-bricks/
CATEGORIES:IMSA
ATTACH;FMTTYPE=image/png:https://intereuropolcompetition.eu/wp-content/uploads/2023/11/IMSA.png
END:VEVENT
BEGIN:VEVENT
DTSTART;VALUE=DATE:20240927
DTEND;VALUE=DATE:20240930
DTSTAMP:20260423T150856
CREATED:20231107T141023Z
LAST-MODIFIED:20231107T141023Z
UID:15505-1727395200-1727654399@intereuropolcompetition.eu
SUMMARY:4 Hours of Mugello
DESCRIPTION:
URL:https://intereuropolcompetition.eu/en/event/4-hours-of-mugello/
CATEGORIES:ELMS
ATTACH;FMTTYPE=image/png:https://intereuropolcompetition.eu/wp-content/uploads/2023/05/elms169.png
END:VEVENT
BEGIN:VEVENT
DTSTART;VALUE=DATE:20241009
DTEND;VALUE=DATE:20241013
DTSTAMP:20260423T150856
CREATED:20231107T140108Z
LAST-MODIFIED:20231107T140108Z
UID:15493-1728432000-1728777599@intereuropolcompetition.eu
SUMMARY:Motul Petit Le Mans
DESCRIPTION:
URL:https://intereuropolcompetition.eu/en/event/motul-petit-le-mans/
CATEGORIES:IMSA
ATTACH;FMTTYPE=image/png:https://intereuropolcompetition.eu/wp-content/uploads/2023/11/IMSA.png
END:VEVENT
BEGIN:VEVENT
DTSTART;VALUE=DATE:20241010
DTEND;VALUE=DATE:20241014
DTSTAMP:20260423T150856
CREATED:20231107T142549Z
LAST-MODIFIED:20231220T114200Z
UID:15521-1728518400-1728863999@intereuropolcompetition.eu
SUMMARY:Magny-Cours
DESCRIPTION:
URL:https://intereuropolcompetition.eu/en/event/magny-cours/
CATEGORIES:Ultimate Cup
ATTACH;FMTTYPE=image/png:https://intereuropolcompetition.eu/wp-content/uploads/2023/05/ultimate169.png
END:VEVENT
BEGIN:VEVENT
DTSTART;VALUE=DATE:20241017
DTEND;VALUE=DATE:20241020
DTSTAMP:20260423T150856
CREATED:20231107T141124Z
LAST-MODIFIED:20231107T141124Z
UID:15507-1729123200-1729382399@intereuropolcompetition.eu
SUMMARY:4 Hours of Portimao
DESCRIPTION:
URL:https://intereuropolcompetition.eu/en/event/4-hours-of-portimao-3/
CATEGORIES:ELMS
ATTACH;FMTTYPE=image/png:https://intereuropolcompetition.eu/wp-content/uploads/2023/05/elms169.png
END:VEVENT
BEGIN:VEVENT
DTSTART;VALUE=DATE:20250117
DTEND;VALUE=DATE:20250120
DTSTAMP:20260423T150856
CREATED:20241127T155729Z
LAST-MODIFIED:20241127T155729Z
UID:17097-1737072000-1737331199@intereuropolcompetition.eu
SUMMARY:Daytona International Speedway
DESCRIPTION:
URL:https://intereuropolcompetition.eu/en/event/daytona-international-speedway/
CATEGORIES:IMSA
ATTACH;FMTTYPE=image/png:https://intereuropolcompetition.eu/wp-content/uploads/2023/11/IMSA.png
END:VEVENT
BEGIN:VEVENT
DTSTART;VALUE=DATE:20250123
DTEND;VALUE=DATE:20250127
DTSTAMP:20260423T150856
CREATED:20241127T155803Z
LAST-MODIFIED:20241127T155803Z
UID:17099-1737590400-1737935999@intereuropolcompetition.eu
SUMMARY:Daytona International Speedway
DESCRIPTION:
URL:https://intereuropolcompetition.eu/en/event/daytona-international-speedway-2/
CATEGORIES:IMSA
ATTACH;FMTTYPE=image/png:https://intereuropolcompetition.eu/wp-content/uploads/2023/11/IMSA.png
END:VEVENT
BEGIN:VEVENT
DTSTART;VALUE=DATE:20250312
DTEND;VALUE=DATE:20250316
DTSTAMP:20260423T150856
CREATED:20241127T155901Z
LAST-MODIFIED:20241127T155901Z
UID:17101-1741737600-1742083199@intereuropolcompetition.eu
SUMMARY:Sebring International Raceway
DESCRIPTION:
URL:https://intereuropolcompetition.eu/en/event/sebring-international-raceway/
CATEGORIES:IMSA
ATTACH;FMTTYPE=image/png:https://intereuropolcompetition.eu/wp-content/uploads/2023/11/IMSA.png
END:VEVENT
BEGIN:VEVENT
DTSTART;VALUE=DATE:20250331
DTEND;VALUE=DATE:20250402
DTSTAMP:20260423T150856
CREATED:20241127T100210Z
LAST-MODIFIED:20241127T100252Z
UID:17060-1743379200-1743551999@intereuropolcompetition.eu
SUMMARY:Official tests
DESCRIPTION:
URL:https://intereuropolcompetition.eu/en/event/polski-official-tests/
CATEGORIES:ELMS
ATTACH;FMTTYPE=image/png:https://intereuropolcompetition.eu/wp-content/uploads/2023/05/elms169.png
END:VEVENT
BEGIN:VEVENT
DTSTART;VALUE=DATE:20250402
DTEND;VALUE=DATE:20250403
DTSTAMP:20260423T150856
CREATED:20241127T154135Z
LAST-MODIFIED:20241127T154135Z
UID:17075-1743552000-1743638399@intereuropolcompetition.eu
SUMMARY:Collective tests - Barcelona
DESCRIPTION:
URL:https://intereuropolcompetition.eu/en/event/collective-tests-barcelona/
CATEGORIES:Le Mans
ATTACH;FMTTYPE=image/png:https://intereuropolcompetition.eu/wp-content/uploads/2023/05/michelin-169.png
END:VEVENT
BEGIN:VEVENT
DTSTART;VALUE=DATE:20250404
DTEND;VALUE=DATE:20250407
DTSTAMP:20260423T150856
CREATED:20241127T100716Z
LAST-MODIFIED:20241127T100716Z
UID:17063-1743724800-1743983999@intereuropolcompetition.eu
SUMMARY:4 hours of Barcelona
DESCRIPTION:
URL:https://intereuropolcompetition.eu/en/event/4-hours-of-barcelona-3/
CATEGORIES:ELMS
ATTACH;FMTTYPE=image/png:https://intereuropolcompetition.eu/wp-content/uploads/2023/05/elms169.png
END:VEVENT
BEGIN:VEVENT
DTSTART;VALUE=DATE:20250404
DTEND;VALUE=DATE:20250406
DTSTAMP:20260423T150856
CREATED:20241127T154301Z
LAST-MODIFIED:20241127T154427Z
UID:17077-1743724800-1743897599@intereuropolcompetition.eu
SUMMARY:Barcelona round
DESCRIPTION:
URL:https://intereuropolcompetition.eu/en/event/barcelona-round/
CATEGORIES:Le Mans
ATTACH;FMTTYPE=image/png:https://intereuropolcompetition.eu/wp-content/uploads/2023/05/michelin-169.png
END:VEVENT
BEGIN:VEVENT
DTSTART;VALUE=DATE:20250411
DTEND;VALUE=DATE:20250413
DTSTAMP:20260423T150856
CREATED:20241127T155944Z
LAST-MODIFIED:20241127T155944Z
UID:17103-1744329600-1744502399@intereuropolcompetition.eu
SUMMARY:Long Beach Street Circuit
DESCRIPTION:
URL:https://intereuropolcompetition.eu/en/event/long-beach-street-circuit/
CATEGORIES:IMSA
ATTACH;FMTTYPE=image/png:https://intereuropolcompetition.eu/wp-content/uploads/2023/11/IMSA.png
END:VEVENT
BEGIN:VEVENT
DTSTART;VALUE=DATE:20250502
DTEND;VALUE=DATE:20250505
DTSTAMP:20260423T150856
CREATED:20241127T100829Z
LAST-MODIFIED:20241127T100829Z
UID:17065-1746144000-1746403199@intereuropolcompetition.eu
SUMMARY:4 hours of Le Castellet
DESCRIPTION:
URL:https://intereuropolcompetition.eu/en/event/4-hours-of-le-castellet-4/
CATEGORIES:ELMS
ATTACH;FMTTYPE=image/png:https://intereuropolcompetition.eu/wp-content/uploads/2023/05/elms169.png
END:VEVENT
BEGIN:VEVENT
DTSTART;VALUE=DATE:20250502
DTEND;VALUE=DATE:20250504
DTSTAMP:20260423T150856
CREATED:20241127T154641Z
LAST-MODIFIED:20241127T154641Z
UID:17081-1746144000-1746316799@intereuropolcompetition.eu
SUMMARY:Le Castellet round
DESCRIPTION:
URL:https://intereuropolcompetition.eu/en/event/le-castellet-round-3/
CATEGORIES:Le Mans
ATTACH;FMTTYPE=image/png:https://intereuropolcompetition.eu/wp-content/uploads/2023/05/michelin-169.png
END:VEVENT
BEGIN:VEVENT
DTSTART;VALUE=DATE:20250509
DTEND;VALUE=DATE:20250512
DTSTAMP:20260423T150856
CREATED:20241127T160049Z
LAST-MODIFIED:20241127T160049Z
UID:17105-1746748800-1747007999@intereuropolcompetition.eu
SUMMARY:Weathertech Raceway Laguna Seca
DESCRIPTION:
URL:https://intereuropolcompetition.eu/en/event/weathertech-raceway-laguna-seca/
CATEGORIES:IMSA
ATTACH;FMTTYPE=image/png:https://intereuropolcompetition.eu/wp-content/uploads/2023/11/IMSA.png
END:VEVENT
BEGIN:VEVENT
DTSTART;VALUE=DATE:20250530
DTEND;VALUE=DATE:20250601
DTSTAMP:20260423T150856
CREATED:20241127T160300Z
LAST-MODIFIED:20241127T160300Z
UID:17109-1748563200-1748735999@intereuropolcompetition.eu
SUMMARY:Detroit Street Circuit
DESCRIPTION:
URL:https://intereuropolcompetition.eu/en/event/detroit-street-circuit/
CATEGORIES:IMSA
ATTACH;FMTTYPE=image/png:https://intereuropolcompetition.eu/wp-content/uploads/2023/11/IMSA.png
END:VEVENT
BEGIN:VEVENT
DTSTART;VALUE=DATE:20250606
DTEND;VALUE=DATE:20250609
DTSTAMP:20260423T150856
CREATED:20241127T160145Z
LAST-MODIFIED:20241127T160145Z
UID:17107-1749168000-1749427199@intereuropolcompetition.eu
SUMMARY:Mid-Ohio Sports Car Course
DESCRIPTION:
URL:https://intereuropolcompetition.eu/en/event/mid-ohio-sports-car-course/
CATEGORIES:IMSA
ATTACH;FMTTYPE=image/png:https://intereuropolcompetition.eu/wp-content/uploads/2023/11/IMSA.png
END:VEVENT
BEGIN:VEVENT
DTSTART;VALUE=DATE:20250610
DTEND;VALUE=DATE:20250613
DTSTAMP:20260423T150856
CREATED:20241127T154818Z
LAST-MODIFIED:20241127T154818Z
UID:17083-1749513600-1749772799@intereuropolcompetition.eu
SUMMARY:Road to Le Mans
DESCRIPTION:
URL:https://intereuropolcompetition.eu/en/event/road-to-le-mans-2/
CATEGORIES:Le Mans
ATTACH;FMTTYPE=image/png:https://intereuropolcompetition.eu/wp-content/uploads/2023/05/michelin-169.png
END:VEVENT
BEGIN:VEVENT
DTSTART;VALUE=DATE:20250614
DTEND;VALUE=DATE:20250616
DTSTAMP:20260423T150856
CREATED:20241127T155457Z
LAST-MODIFIED:20241127T155457Z
UID:17095-1749859200-1750031999@intereuropolcompetition.eu
SUMMARY:24 hours of Le Mans
DESCRIPTION:
URL:https://intereuropolcompetition.eu/en/event/24-hours-of-le-mans-4/
CATEGORIES:FIA WEC
ATTACH;FMTTYPE=image/png:https://intereuropolcompetition.eu/wp-content/uploads/2023/05/24-Le-Mans-169-e1693320337271.png
END:VEVENT
BEGIN:VEVENT
DTSTART;VALUE=DATE:20250619
DTEND;VALUE=DATE:20250623
DTSTAMP:20260423T150856
CREATED:20241127T160351Z
LAST-MODIFIED:20241127T160351Z
UID:17111-1750291200-1750636799@intereuropolcompetition.eu
SUMMARY:Watkins Glen International
DESCRIPTION:
URL:https://intereuropolcompetition.eu/en/event/watkins-glen-international/
CATEGORIES:IMSA
ATTACH;FMTTYPE=image/png:https://intereuropolcompetition.eu/wp-content/uploads/2023/11/IMSA.png
END:VEVENT
BEGIN:VEVENT
DTSTART;VALUE=DATE:20250704
DTEND;VALUE=DATE:20250707
DTSTAMP:20260423T150856
CREATED:20241127T100925Z
LAST-MODIFIED:20241127T100925Z
UID:17067-1751587200-1751846399@intereuropolcompetition.eu
SUMMARY:4 hours of Imola
DESCRIPTION:
URL:https://intereuropolcompetition.eu/en/event/4-hours-of-imola-3/
CATEGORIES:ELMS
ATTACH;FMTTYPE=image/png:https://intereuropolcompetition.eu/wp-content/uploads/2023/05/elms169.png
END:VEVENT
BEGIN:VEVENT
DTSTART;TZID=Europe/Warsaw:20250711T080000
DTEND;TZID=Europe/Warsaw:20250713T170000
DTSTAMP:20260423T150856
CREATED:20241127T160450Z
LAST-MODIFIED:20241127T160450Z
UID:17113-1752220800-1752426000@intereuropolcompetition.eu
SUMMARY:Canadian Tire Motorsport Park
DESCRIPTION:
URL:https://intereuropolcompetition.eu/en/event/canadian-tire-motorsport-park/
CATEGORIES:IMSA
ATTACH;FMTTYPE=image/png:https://intereuropolcompetition.eu/wp-content/uploads/2023/11/IMSA.png
END:VEVENT
BEGIN:VEVENT
DTSTART;VALUE=DATE:20250731
DTEND;VALUE=DATE:20250804
DTSTAMP:20260423T150856
CREATED:20241127T160541Z
LAST-MODIFIED:20241127T160541Z
UID:17115-1753920000-1754265599@intereuropolcompetition.eu
SUMMARY:Road America
DESCRIPTION:
URL:https://intereuropolcompetition.eu/en/event/road-america/
CATEGORIES:IMSA
ATTACH;FMTTYPE=image/png:https://intereuropolcompetition.eu/wp-content/uploads/2023/11/IMSA.png
END:VEVENT
BEGIN:VEVENT
DTSTART;VALUE=DATE:20250822
DTEND;VALUE=DATE:20250825
DTSTAMP:20260423T150856
CREATED:20241127T101021Z
LAST-MODIFIED:20241127T101021Z
UID:17069-1755820800-1756079999@intereuropolcompetition.eu
SUMMARY:4 hours of Spa-Francorchamps
DESCRIPTION:
URL:https://intereuropolcompetition.eu/en/event/4-hours-of-spa-francorchamps-3/
CATEGORIES:ELMS
ATTACH;FMTTYPE=image/png:https://intereuropolcompetition.eu/wp-content/uploads/2023/05/elms169.png
END:VEVENT
BEGIN:VEVENT
DTSTART;VALUE=DATE:20250822
DTEND;VALUE=DATE:20250824
DTSTAMP:20260423T150856
CREATED:20241127T154930Z
LAST-MODIFIED:20241127T154930Z
UID:17085-1755820800-1755993599@intereuropolcompetition.eu
SUMMARY:Spa-Francorchamps round
DESCRIPTION:
URL:https://intereuropolcompetition.eu/en/event/spa-francorchamps-round-2/
CATEGORIES:Le Mans
ATTACH;FMTTYPE=image/png:https://intereuropolcompetition.eu/wp-content/uploads/2023/05/michelin-169.png
END:VEVENT
BEGIN:VEVENT
DTSTART;VALUE=DATE:20250822
DTEND;VALUE=DATE:20250825
DTSTAMP:20260423T150856
CREATED:20241127T160636Z
LAST-MODIFIED:20241127T160636Z
UID:17117-1755820800-1756079999@intereuropolcompetition.eu
SUMMARY:Virginia International Raceway
DESCRIPTION:
URL:https://intereuropolcompetition.eu/en/event/virginia-international-raceway/
CATEGORIES:IMSA
ATTACH;FMTTYPE=image/png:https://intereuropolcompetition.eu/wp-content/uploads/2023/11/IMSA.png
END:VEVENT
BEGIN:VEVENT
DTSTART;VALUE=DATE:20250912
DTEND;VALUE=DATE:20250915
DTSTAMP:20260423T150856
CREATED:20241127T101106Z
LAST-MODIFIED:20241127T101106Z
UID:17071-1757635200-1757894399@intereuropolcompetition.eu
SUMMARY:4 hours of Silverstone
DESCRIPTION:
URL:https://intereuropolcompetition.eu/en/event/4-hours-of-silverstone/
CATEGORIES:ELMS
ATTACH;FMTTYPE=image/png:https://intereuropolcompetition.eu/wp-content/uploads/2023/05/elms169.png
END:VEVENT
BEGIN:VEVENT
DTSTART;VALUE=DATE:20250912
DTEND;VALUE=DATE:20250914
DTSTAMP:20260423T150856
CREATED:20241127T155213Z
LAST-MODIFIED:20241127T155213Z
UID:17093-1757635200-1757807999@intereuropolcompetition.eu
SUMMARY:Silverstone round
DESCRIPTION:
URL:https://intereuropolcompetition.eu/en/event/silverstone-round-2/
CATEGORIES:Le Mans
ATTACH;FMTTYPE=image/png:https://intereuropolcompetition.eu/wp-content/uploads/2023/05/michelin-169.png
END:VEVENT
END:VCALENDAR