BEGIN:VCALENDAR
VERSION:2.0
PRODID:-//Inter Europol Competition - ECPv6.15.20//NONSGML v1.0//EN
CALSCALE:GREGORIAN
METHOD:PUBLISH
X-WR-CALNAME:Inter Europol Competition
X-ORIGINAL-URL:https://intereuropolcompetition.eu/en
X-WR-CALDESC:Events for Inter Europol Competition
REFRESH-INTERVAL;VALUE=DURATION:PT1H
X-Robots-Tag:noindex
X-PUBLISHED-TTL:PT1H
BEGIN:VTIMEZONE
TZID:Europe/Warsaw
BEGIN:DAYLIGHT
TZOFFSETFROM:+0100
TZOFFSETTO:+0200
TZNAME:CEST
DTSTART:20220327T010000
END:DAYLIGHT
BEGIN:STANDARD
TZOFFSETFROM:+0200
TZOFFSETTO:+0100
TZNAME:CET
DTSTART:20221030T010000
END:STANDARD
BEGIN:DAYLIGHT
TZOFFSETFROM:+0100
TZOFFSETTO:+0200
TZNAME:CEST
DTSTART:20230326T010000
END:DAYLIGHT
BEGIN:STANDARD
TZOFFSETFROM:+0200
TZOFFSETTO:+0100
TZNAME:CET
DTSTART:20231029T010000
END:STANDARD
BEGIN:DAYLIGHT
TZOFFSETFROM:+0100
TZOFFSETTO:+0200
TZNAME:CEST
DTSTART:20240331T010000
END:DAYLIGHT
BEGIN:STANDARD
TZOFFSETFROM:+0200
TZOFFSETTO:+0100
TZNAME:CET
DTSTART:20241027T010000
END:STANDARD
BEGIN:DAYLIGHT
TZOFFSETFROM:+0100
TZOFFSETTO:+0200
TZNAME:CEST
DTSTART:20250330T010000
END:DAYLIGHT
BEGIN:STANDARD
TZOFFSETFROM:+0200
TZOFFSETTO:+0100
TZNAME:CET
DTSTART:20251026T010000
END:STANDARD
END:VTIMEZONE
BEGIN:VEVENT
DTSTART;VALUE=DATE:20240823
DTEND;VALUE=DATE:20240826
DTSTAMP:20260423T201518
CREATED:20231107T140907Z
LAST-MODIFIED:20231107T140907Z
UID:15503-1724371200-1724630399@intereuropolcompetition.eu
SUMMARY:4 Hours of Spa-Francorchamps
DESCRIPTION:
URL:https://intereuropolcompetition.eu/en/event/4-hours-of-spa-francorchamps-2/
CATEGORIES:ELMS
ATTACH;FMTTYPE=image/png:https://intereuropolcompetition.eu/wp-content/uploads/2023/05/elms169.png
END:VEVENT
BEGIN:VEVENT
DTSTART;VALUE=DATE:20240802
DTEND;VALUE=DATE:20240805
DTSTAMP:20260423T201518
CREATED:20231107T135754Z
LAST-MODIFIED:20231107T135754Z
UID:15489-1722556800-1722815999@intereuropolcompetition.eu
SUMMARY:IMSA Sportscar Weekend
DESCRIPTION:
URL:https://intereuropolcompetition.eu/en/event/imsa-sportscar-weekend/
CATEGORIES:IMSA
ATTACH;FMTTYPE=image/png:https://intereuropolcompetition.eu/wp-content/uploads/2023/11/IMSA.png
END:VEVENT
BEGIN:VEVENT
DTSTART;VALUE=DATE:20240712
DTEND;VALUE=DATE:20240715
DTSTAMP:20260423T201518
CREATED:20231107T135700Z
LAST-MODIFIED:20231107T135700Z
UID:15487-1720742400-1721001599@intereuropolcompetition.eu
SUMMARY:Chevrolet Grand Prix
DESCRIPTION:
URL:https://intereuropolcompetition.eu/en/event/chevrolet-grand-prix/
CATEGORIES:IMSA
ATTACH;FMTTYPE=image/png:https://intereuropolcompetition.eu/wp-content/uploads/2023/11/IMSA.png
END:VEVENT
BEGIN:VEVENT
DTSTART;VALUE=DATE:20240705
DTEND;VALUE=DATE:20240708
DTSTAMP:20260423T201518
CREATED:20231107T140801Z
LAST-MODIFIED:20231107T140801Z
UID:15501-1720137600-1720396799@intereuropolcompetition.eu
SUMMARY:4 Hours of Imola
DESCRIPTION:
URL:https://intereuropolcompetition.eu/en/event/4-hours-of-imola-2/
CATEGORIES:ELMS
ATTACH;FMTTYPE=image/png:https://intereuropolcompetition.eu/wp-content/uploads/2023/05/elms169.png
END:VEVENT
BEGIN:VEVENT
DTSTART;VALUE=DATE:20240704
DTEND;VALUE=DATE:20240708
DTSTAMP:20260423T201518
CREATED:20231107T142349Z
LAST-MODIFIED:20231107T142349Z
UID:15517-1720051200-1720396799@intereuropolcompetition.eu
SUMMARY:Hockenheimring
DESCRIPTION:
URL:https://intereuropolcompetition.eu/en/event/hockenheimring-2/
CATEGORIES:Ultimate Cup
ATTACH;FMTTYPE=image/png:https://intereuropolcompetition.eu/wp-content/uploads/2023/11/limate.png
END:VEVENT
BEGIN:VEVENT
DTSTART;VALUE=DATE:20240620
DTEND;VALUE=DATE:20240624
DTSTAMP:20260423T201518
CREATED:20231107T135526Z
LAST-MODIFIED:20231107T135526Z
UID:15485-1718841600-1719187199@intereuropolcompetition.eu
SUMMARY:Sahlen's Six Hours of the Glen
DESCRIPTION:
URL:https://intereuropolcompetition.eu/en/event/sahlens-six-hours-of-the-glen/
CATEGORIES:IMSA
ATTACH;FMTTYPE=image/png:https://intereuropolcompetition.eu/wp-content/uploads/2023/11/IMSA.png
END:VEVENT
BEGIN:VEVENT
DTSTART;VALUE=DATE:20240615
DTEND;VALUE=DATE:20240617
DTSTAMP:20260423T201518
CREATED:20231107T141259Z
LAST-MODIFIED:20231107T141259Z
UID:15509-1718409600-1718582399@intereuropolcompetition.eu
SUMMARY:24 Hours of Le Mans
DESCRIPTION:
URL:https://intereuropolcompetition.eu/en/event/24-hours-of-le-mans-3/
CATEGORIES:Le Mans
ATTACH;FMTTYPE=image/png:https://intereuropolcompetition.eu/wp-content/uploads/2023/11/24.png
END:VEVENT
BEGIN:VEVENT
DTSTART;VALUE=DATE:20240523
DTEND;VALUE=DATE:20240527
DTSTAMP:20260423T201518
CREATED:20231107T142250Z
LAST-MODIFIED:20231107T142250Z
UID:15515-1716422400-1716767999@intereuropolcompetition.eu
SUMMARY:Portimao
DESCRIPTION:
URL:https://intereuropolcompetition.eu/en/event/portimao-2/
CATEGORIES:Ultimate Cup
ATTACH;FMTTYPE=image/png:https://intereuropolcompetition.eu/wp-content/uploads/2023/11/limate.png
END:VEVENT
BEGIN:VEVENT
DTSTART;VALUE=DATE:20240503
DTEND;VALUE=DATE:20240506
DTSTAMP:20260423T201518
CREATED:20231107T140619Z
LAST-MODIFIED:20231107T140619Z
UID:15499-1714694400-1714953599@intereuropolcompetition.eu
SUMMARY:4 Hours of Le Castellet
DESCRIPTION:
URL:https://intereuropolcompetition.eu/en/event/4-hours-of-le-castellet-3/
CATEGORIES:ELMS
ATTACH;FMTTYPE=image/png:https://intereuropolcompetition.eu/wp-content/uploads/2023/05/elms169.png
END:VEVENT
BEGIN:VEVENT
DTSTART;VALUE=DATE:20240412
DTEND;VALUE=DATE:20240415
DTSTAMP:20260423T201518
CREATED:20231107T140339Z
LAST-MODIFIED:20231121T104928Z
UID:15495-1712880000-1713139199@intereuropolcompetition.eu
SUMMARY:4 Hours of Barcelona
DESCRIPTION:
URL:https://intereuropolcompetition.eu/en/event/4-hours-of-barcelona-2/
CATEGORIES:ELMS
ATTACH;FMTTYPE=image/png:https://intereuropolcompetition.eu/wp-content/uploads/2023/05/elms169.png
END:VEVENT
BEGIN:VEVENT
DTSTART;VALUE=DATE:20240408
DTEND;VALUE=DATE:20240410
DTSTAMP:20260423T201518
CREATED:20231107T140451Z
LAST-MODIFIED:20231107T140451Z
UID:15497-1712534400-1712707199@intereuropolcompetition.eu
SUMMARY:Barcelona Official Tests
DESCRIPTION:
URL:https://intereuropolcompetition.eu/en/event/barcelona-official-tests/
CATEGORIES:ELMS
ATTACH;FMTTYPE=image/png:https://intereuropolcompetition.eu/wp-content/uploads/2023/05/elms169.png
END:VEVENT
BEGIN:VEVENT
DTSTART;VALUE=DATE:20240314
DTEND;VALUE=DATE:20240318
DTSTAMP:20260423T201518
CREATED:20231107T142147Z
LAST-MODIFIED:20231107T142147Z
UID:15512-1710374400-1710719999@intereuropolcompetition.eu
SUMMARY:Le Castellet
DESCRIPTION:
URL:https://intereuropolcompetition.eu/en/event/le-castellet-2/
CATEGORIES:Ultimate Cup
ATTACH;FMTTYPE=image/png:https://intereuropolcompetition.eu/wp-content/uploads/2023/11/limate.png
END:VEVENT
BEGIN:VEVENT
DTSTART;VALUE=DATE:20240313
DTEND;VALUE=DATE:20240317
DTSTAMP:20260423T201518
CREATED:20231107T135412Z
LAST-MODIFIED:20231107T135412Z
UID:15482-1710288000-1710633599@intereuropolcompetition.eu
SUMMARY:Mobil 1 Twelve Hours of Sebring
DESCRIPTION:
URL:https://intereuropolcompetition.eu/en/event/mobil-1-twelve-hours-of-sebring/
CATEGORIES:IMSA
ATTACH;FMTTYPE=image/png:https://intereuropolcompetition.eu/wp-content/uploads/2023/11/IMSA.png
END:VEVENT
BEGIN:VEVENT
DTSTART;VALUE=DATE:20240125
DTEND;VALUE=DATE:20240129
DTSTAMP:20260423T201518
CREATED:20231107T135217Z
LAST-MODIFIED:20231107T135217Z
UID:15480-1706140800-1706486399@intereuropolcompetition.eu
SUMMARY:Rolex 24 at Daytona
DESCRIPTION:
URL:https://intereuropolcompetition.eu/en/event/rolex-24-at-daytona/
CATEGORIES:IMSA
ATTACH;FMTTYPE=image/png:https://intereuropolcompetition.eu/wp-content/uploads/2023/11/IMSA.png
END:VEVENT
BEGIN:VEVENT
DTSTART;VALUE=DATE:20240119
DTEND;VALUE=DATE:20240122
DTSTAMP:20260423T201518
CREATED:20231107T135009Z
LAST-MODIFIED:20231107T135009Z
UID:15477-1705622400-1705881599@intereuropolcompetition.eu
SUMMARY:[:en]Roar Before the Rolex 24[:pl]Roar Before the Rolex 24 [:]
DESCRIPTION:
URL:https://intereuropolcompetition.eu/en/event/roar-before-the-rolex-24/
CATEGORIES:IMSA
ATTACH;FMTTYPE=image/png:https://intereuropolcompetition.eu/wp-content/uploads/2023/11/IMSA.png
END:VEVENT
BEGIN:VEVENT
DTSTART;VALUE=DATE:20231107
DTEND;VALUE=DATE:20231108
DTSTAMP:20260423T201518
CREATED:20231107T142650Z
LAST-MODIFIED:20231107T142650Z
UID:15523-1699315200-1699401599@intereuropolcompetition.eu
SUMMARY:Le Castellet
DESCRIPTION:
URL:https://intereuropolcompetition.eu/en/event/le-castellet-3/
CATEGORIES:Ultimate Cup
ATTACH;FMTTYPE=image/png:https://intereuropolcompetition.eu/wp-content/uploads/2023/11/limate.png
END:VEVENT
BEGIN:VEVENT
DTSTART;VALUE=DATE:20231102
DTEND;VALUE=DATE:20231105
DTSTAMP:20260423T201518
CREATED:20230303T150120Z
LAST-MODIFIED:20231102T130251Z
UID:8706-1698883200-1699142399@intereuropolcompetition.eu
SUMMARY:8 Hours of Bahrain
DESCRIPTION:
URL:https://intereuropolcompetition.eu/en/event/8-hours-of-bahrain/
CATEGORIES:FIA WEC
ATTACH;FMTTYPE=image/png:https://intereuropolcompetition.eu/wp-content/uploads/2023/05/wec169.png
END:VEVENT
BEGIN:VEVENT
DTSTART;VALUE=DATE:20231021
DTEND;VALUE=DATE:20231023
DTSTAMP:20260423T201518
CREATED:20230326T091722Z
LAST-MODIFIED:20230526T105016Z
UID:9313-1697846400-1698019199@intereuropolcompetition.eu
SUMMARY:[:en]Portimao Round[:pl]Runda Portimao [:]
DESCRIPTION:
URL:https://intereuropolcompetition.eu/en/event/portimao-round/
CATEGORIES:LMC
ATTACH;FMTTYPE=image/png:https://intereuropolcompetition.eu/wp-content/uploads/2023/05/michelin-169.png
END:VEVENT
BEGIN:VEVENT
DTSTART;VALUE=DATE:20231020
DTEND;VALUE=DATE:20231023
DTSTAMP:20260423T201518
CREATED:20230303T150003Z
LAST-MODIFIED:20230526T105013Z
UID:8704-1697760000-1698019199@intereuropolcompetition.eu
SUMMARY:4 Hours of Portimao
DESCRIPTION:
URL:https://intereuropolcompetition.eu/en/event/4-hours-of-portimao-2/
CATEGORIES:ELMS
ATTACH;FMTTYPE=image/png:https://intereuropolcompetition.eu/wp-content/uploads/2023/05/elms169.png
END:VEVENT
BEGIN:VEVENT
DTSTART;VALUE=DATE:20230922
DTEND;VALUE=DATE:20230924
DTSTAMP:20260423T201518
CREATED:20230326T091618Z
LAST-MODIFIED:20230526T105010Z
UID:9311-1695340800-1695513599@intereuropolcompetition.eu
SUMMARY:[:en]Spa-Francorchamps Round[:pl]Runda Spa-Francorchamps[:]
DESCRIPTION:
URL:https://intereuropolcompetition.eu/en/event/spa-francorchamps-round/
CATEGORIES:LMC
ATTACH;FMTTYPE=image/png:https://intereuropolcompetition.eu/wp-content/uploads/2023/05/michelin-169.png
END:VEVENT
BEGIN:VEVENT
DTSTART;VALUE=DATE:20230922
DTEND;VALUE=DATE:20230925
DTSTAMP:20260423T201518
CREATED:20230303T145805Z
LAST-MODIFIED:20230526T105011Z
UID:8700-1695340800-1695599999@intereuropolcompetition.eu
SUMMARY:4 Hours of Spa
DESCRIPTION:
URL:https://intereuropolcompetition.eu/en/event/4-hours-of-spa/
CATEGORIES:ELMS
ATTACH;FMTTYPE=image/png:https://intereuropolcompetition.eu/wp-content/uploads/2023/05/elms169.png
END:VEVENT
BEGIN:VEVENT
DTSTART;VALUE=DATE:20230908
DTEND;VALUE=DATE:20230911
DTSTAMP:20260423T201518
CREATED:20230303T145659Z
LAST-MODIFIED:20230526T105009Z
UID:8698-1694131200-1694390399@intereuropolcompetition.eu
SUMMARY:6 Hours of Fuji
DESCRIPTION:
URL:https://intereuropolcompetition.eu/en/event/6-hours-of-fuji-2/
CATEGORIES:FIA WEC
ATTACH;FMTTYPE=image/png:https://intereuropolcompetition.eu/wp-content/uploads/2023/05/wec169.png
END:VEVENT
BEGIN:VEVENT
DTSTART;VALUE=DATE:20230824
DTEND;VALUE=DATE:20230827
DTSTAMP:20260423T201518
CREATED:20230303T144253Z
LAST-MODIFIED:20230526T105007Z
UID:8696-1692835200-1693094399@intereuropolcompetition.eu
SUMMARY:4 Hours of Aragon
DESCRIPTION:
URL:https://intereuropolcompetition.eu/en/event/4-hours-of-aragon/
CATEGORIES:ELMS
ATTACH;FMTTYPE=image/png:https://intereuropolcompetition.eu/wp-content/uploads/2023/05/elms169.png
END:VEVENT
BEGIN:VEVENT
DTSTART;VALUE=DATE:20230714
DTEND;VALUE=DATE:20230716
DTSTAMP:20260423T201518
CREATED:20230326T091441Z
LAST-MODIFIED:20230526T105003Z
UID:9309-1689292800-1689465599@intereuropolcompetition.eu
SUMMARY:[:en]Le Castellet Round[:pl]Runda Le Castellet[:]
DESCRIPTION:
URL:https://intereuropolcompetition.eu/en/event/le-castellet-round/
CATEGORIES:LMC
ATTACH;FMTTYPE=image/png:https://intereuropolcompetition.eu/wp-content/uploads/2023/05/michelin-169.png
END:VEVENT
BEGIN:VEVENT
DTSTART;VALUE=DATE:20230714
DTEND;VALUE=DATE:20230717
DTSTAMP:20260423T201518
CREATED:20230303T144135Z
LAST-MODIFIED:20230526T105005Z
UID:8694-1689292800-1689551999@intereuropolcompetition.eu
SUMMARY:4 Hours of Le Castellet
DESCRIPTION:
URL:https://intereuropolcompetition.eu/en/event/4-hours-of-le-castellet-2/
CATEGORIES:ELMS
ATTACH;FMTTYPE=image/png:https://intereuropolcompetition.eu/wp-content/uploads/2023/05/elms169.png
END:VEVENT
BEGIN:VEVENT
DTSTART;VALUE=DATE:20230707
DTEND;VALUE=DATE:20230710
DTSTAMP:20260423T201518
CREATED:20230303T144003Z
LAST-MODIFIED:20230526T103147Z
UID:8692-1688688000-1688947199@intereuropolcompetition.eu
SUMMARY:6 Hours of Monza
DESCRIPTION:
URL:https://intereuropolcompetition.eu/en/event/6-hours-of-monza-2/
CATEGORIES:FIA WEC
ATTACH;FMTTYPE=image/png:https://intereuropolcompetition.eu/wp-content/uploads/2023/05/wec169.png
END:VEVENT
BEGIN:VEVENT
DTSTART;VALUE=DATE:20230609
DTEND;VALUE=DATE:20230612
DTSTAMP:20260423T201518
CREATED:20230303T143739Z
LAST-MODIFIED:20230526T103139Z
UID:8690-1686268800-1686527999@intereuropolcompetition.eu
SUMMARY:24h of Le Mans
DESCRIPTION:
URL:https://intereuropolcompetition.eu/en/event/24h-of-le-mans/
CATEGORIES:Le Mans
ATTACH;FMTTYPE=image/png:https://intereuropolcompetition.eu/wp-content/uploads/2023/05/24-Le-Mans-169-e1693320337271.png
END:VEVENT
BEGIN:VEVENT
DTSTART;VALUE=DATE:20230608
DTEND;VALUE=DATE:20230610
DTSTAMP:20260423T201518
CREATED:20230326T091258Z
LAST-MODIFIED:20230609T110401Z
UID:9307-1686182400-1686355199@intereuropolcompetition.eu
SUMMARY:Road to Le Mans
DESCRIPTION:
URL:https://intereuropolcompetition.eu/en/event/road-to-le-mans/
CATEGORIES:LMC
ATTACH;FMTTYPE=image/png:https://intereuropolcompetition.eu/wp-content/uploads/2023/05/michelin-169.png
END:VEVENT
BEGIN:VEVENT
DTSTART;VALUE=DATE:20230505
DTEND;VALUE=DATE:20230507
DTSTAMP:20260423T201518
CREATED:20230326T091049Z
LAST-MODIFIED:20230526T104809Z
UID:9305-1683244800-1683417599@intereuropolcompetition.eu
SUMMARY:Imola
DESCRIPTION:
URL:https://intereuropolcompetition.eu/en/event/imola-2/
CATEGORIES:LMC
ATTACH;FMTTYPE=image/png:https://intereuropolcompetition.eu/wp-content/uploads/2023/05/michelin-169.png
END:VEVENT
BEGIN:VEVENT
DTSTART;VALUE=DATE:20230505
DTEND;VALUE=DATE:20230508
DTSTAMP:20260423T201518
CREATED:20230303T143414Z
LAST-MODIFIED:20230526T104812Z
UID:8688-1683244800-1683503999@intereuropolcompetition.eu
SUMMARY:4 Hours of Imola
DESCRIPTION:
URL:https://intereuropolcompetition.eu/en/event/4-hours-of-imola/
CATEGORIES:ELMS
ATTACH;FMTTYPE=image/png:https://intereuropolcompetition.eu/wp-content/uploads/2023/05/elms169.png
END:VEVENT
END:VCALENDAR